BEGIN:VCALENDAR
VERSION:2.0
PRODID:-//Exoskeleton Report - ECPv6.15.20//NONSGML v1.0//EN
CALSCALE:GREGORIAN
METHOD:PUBLISH
X-ORIGINAL-URL:https://exoskeletonreport.com
X-WR-CALDESC:Events for Exoskeleton Report
REFRESH-INTERVAL;VALUE=DURATION:PT1H
X-Robots-Tag:noindex
X-PUBLISHED-TTL:PT1H
BEGIN:VTIMEZONE
TZID:America/Los_Angeles
BEGIN:DAYLIGHT
TZOFFSETFROM:-0800
TZOFFSETTO:-0700
TZNAME:PDT
DTSTART:20210314T100000
END:DAYLIGHT
BEGIN:STANDARD
TZOFFSETFROM:-0700
TZOFFSETTO:-0800
TZNAME:PST
DTSTART:20211107T090000
END:STANDARD
BEGIN:DAYLIGHT
TZOFFSETFROM:-0800
TZOFFSETTO:-0700
TZNAME:PDT
DTSTART:20220313T100000
END:DAYLIGHT
BEGIN:STANDARD
TZOFFSETFROM:-0700
TZOFFSETTO:-0800
TZNAME:PST
DTSTART:20221106T090000
END:STANDARD
BEGIN:DAYLIGHT
TZOFFSETFROM:-0800
TZOFFSETTO:-0700
TZNAME:PDT
DTSTART:20230312T100000
END:DAYLIGHT
BEGIN:STANDARD
TZOFFSETFROM:-0700
TZOFFSETTO:-0800
TZNAME:PST
DTSTART:20231105T090000
END:STANDARD
END:VTIMEZONE
BEGIN:VEVENT
DTSTART;TZID=America/Los_Angeles:20220321T100000
DTEND;TZID=America/Los_Angeles:20220321T140000
DTSTAMP:20260424T092411
CREATED:20220223T052606Z
LAST-MODIFIED:20220225T051556Z
UID:10000075-1647856800-1647871200@exoskeletonreport.com
SUMMARY:Implementation of Exoskeletons\, at Applied Ergonomics 2022 Pre-Conference Workshop
DESCRIPTION:The Applied Ergonomics Conference 2022 will take place this March 21-24\, 2022 at the Rosen Centre Hotel in Orlando\, Florida. In addition to the conference\, there will be several pre-conference workshops held on Monday\, March 21\, including one on exoskeletons and wearable robotics. “Implementation of Exoskeletons” will run from 1 pm to 5 pm by the Automotive Exoskekleton Group (AExG). \nPresenters:\n  \n \nFrom left to right (image above)\, the facilitators of the workshop will be Marisol Barrero\, Amazon Web Services; David Brodie\, Cargill\, Inc.; Ryan Porto\, General Motors; Bill Billotte\, ASTM Exo Technology Center of Excellence; Dr. Samuel Reimer Ottobock\, and Matthew Marino\, HeroWear \nProgram:\nThe workshop will start with an overview of the state of the art of exoskeleton technology for industrial and occupational applications. This will be followed up by exoskeleton implementation best practices and examples on the organizational level by AExG members. Dr. Billotte will provide an update on the latest in exo technology standards and the foundational work on certification program(s). Finally\, Dr. Sam Reimer and Matthew Marino will lead attendees through an exercise on creating their very own exoskeleton implementation plan. \nThe goal is for participants to leave with an understanding of how to match the right exoskeleton to the ergonomic challenges faced by their workers. Attendees will also learn what methods can be used to assess exoskeleton effectiveness\, both via traditional ergonomics techniques and emerging technologies such as XR and wearable sensors. Approaches and techniques for conducting exoskeleton pilots and for planning and executing successful long-term exoskeleton implementation will be described and practiced as well. Participants will have an opportunity to begin writing their own exoskeleton implementation plan to take back to their organization. \nInformation & Registration:\nMore information on the Implementation of Exoskeletons Applied Ergonomics Pre-Conference Workshop can be found at the conference’s website. \nAbout AExG\n\nAExG is a Wearable Robotics Association sponsored\, industry inclusive group that supports the evolution of exoskeletons. Our vision is to promote quality of life through wearable technologies. We started this journey as a group of automotive manufacturers and are constantly evolving to include members from other industries who share our vision. AExG\, as reflective of our core values\, is open\, collaborative\, unbiased\, inclusive\, respectful\, constantly learning\, seeks continuous improvement\, conducts critical analysis\, and holds practical beliefs for exoskeleton applications. (link to website)
URL:https://exoskeletonreport.com/event/implementation-of-exoskeletons-at-applied-ergonomics-2022-pre-conference-workshop/
LOCATION:Rosen Centre Hotel\, Orlando\, Florida\, Orlando\, FL\, United States
CATEGORIES:Conference
ATTACH;FMTTYPE=image/jpeg:https://exoskeletonreport.com/wp-content/uploads/2022/02/Implementation-of-Exoskeletons-at-Applied-Ergonomics-2022-Pre-Conference-Workshop.jpg
END:VEVENT
END:VCALENDAR