BEGIN:VCALENDAR
VERSION:2.0
PRODID:-//Exoskeleton Report - ECPv6.15.20//NONSGML v1.0//EN
CALSCALE:GREGORIAN
METHOD:PUBLISH
X-ORIGINAL-URL:https://exoskeletonreport.com
X-WR-CALDESC:Events for Exoskeleton Report
REFRESH-INTERVAL;VALUE=DURATION:PT1H
X-Robots-Tag:noindex
X-PUBLISHED-TTL:PT1H
BEGIN:VTIMEZONE
TZID:America/Los_Angeles
BEGIN:DAYLIGHT
TZOFFSETFROM:-0800
TZOFFSETTO:-0700
TZNAME:PDT
DTSTART:20190310T100000
END:DAYLIGHT
BEGIN:STANDARD
TZOFFSETFROM:-0700
TZOFFSETTO:-0800
TZNAME:PST
DTSTART:20191103T090000
END:STANDARD
BEGIN:DAYLIGHT
TZOFFSETFROM:-0800
TZOFFSETTO:-0700
TZNAME:PDT
DTSTART:20200308T100000
END:DAYLIGHT
BEGIN:STANDARD
TZOFFSETFROM:-0700
TZOFFSETTO:-0800
TZNAME:PST
DTSTART:20201101T090000
END:STANDARD
BEGIN:DAYLIGHT
TZOFFSETFROM:-0800
TZOFFSETTO:-0700
TZNAME:PDT
DTSTART:20210314T100000
END:DAYLIGHT
BEGIN:STANDARD
TZOFFSETFROM:-0700
TZOFFSETTO:-0800
TZNAME:PST
DTSTART:20211107T090000
END:STANDARD
END:VTIMEZONE
BEGIN:VEVENT
DTSTART;TZID=America/Los_Angeles:20201104T080000
DTEND;TZID=America/Los_Angeles:20201104T093000
DTSTAMP:20260423T233547
CREATED:20201027T143206Z
LAST-MODIFIED:20201027T143206Z
UID:10000080-1604476800-1604482200@exoskeletonreport.com
SUMMARY:Webinar: Usage of Medical Exoskeletons - ExoAtlet
DESCRIPTION:While Europe is its second wave of Covid-19 (and the U.S. is still on it’s first or third\, depending on who you ask) and live events are being cancelled left and right\, online exoskeleton events continue to flourish. \nThis November 4th\, 2020\, at 16 CET (8 a.m. Pacific Time)\, ExoAtlet will hold an educational webinar on the “usage of medical exoskeletons” based on their ExoAtlet II. The ExoAtlet II is a lower-body powered gait rehabilitation exoskeleton that stands on the shoulders of the first model. The Webinar is free\, and registration can be made at: https://exoedu.lu/registration \nThe webinar’s main topic will be the basics of the application of exoskeletons in rehabilitation. Doctors and physiotherapists from the Vivantes Klinikum Spandau will answer questions on the practical applications of the ExoAtlet II.
URL:https://exoskeletonreport.com/event/webinar-usage-of-medical-exoskeletons-exoatlet/
CATEGORIES:Webinar
ATTACH;FMTTYPE=image/jpeg:https://exoskeletonreport.com/wp-content/uploads/2020/10/Webinar-ExoAtlet-Nov-4-2020.jpg
END:VEVENT
END:VCALENDAR