BEGIN:VCALENDAR
VERSION:2.0
PRODID:-//Exoskeleton Report - ECPv6.15.20//NONSGML v1.0//EN
CALSCALE:GREGORIAN
METHOD:PUBLISH
X-WR-CALNAME:Exoskeleton Report
X-ORIGINAL-URL:https://exoskeletonreport.com
X-WR-CALDESC:Events for Exoskeleton Report
REFRESH-INTERVAL;VALUE=DURATION:PT1H
X-Robots-Tag:noindex
X-PUBLISHED-TTL:PT1H
BEGIN:VTIMEZONE
TZID:America/Los_Angeles
BEGIN:DAYLIGHT
TZOFFSETFROM:-0800
TZOFFSETTO:-0700
TZNAME:PDT
DTSTART:20220313T100000
END:DAYLIGHT
BEGIN:STANDARD
TZOFFSETFROM:-0700
TZOFFSETTO:-0800
TZNAME:PST
DTSTART:20221106T090000
END:STANDARD
BEGIN:DAYLIGHT
TZOFFSETFROM:-0800
TZOFFSETTO:-0700
TZNAME:PDT
DTSTART:20230312T100000
END:DAYLIGHT
BEGIN:STANDARD
TZOFFSETFROM:-0700
TZOFFSETTO:-0800
TZNAME:PST
DTSTART:20231105T090000
END:STANDARD
BEGIN:DAYLIGHT
TZOFFSETFROM:-0800
TZOFFSETTO:-0700
TZNAME:PDT
DTSTART:20240310T100000
END:DAYLIGHT
BEGIN:STANDARD
TZOFFSETFROM:-0700
TZOFFSETTO:-0800
TZNAME:PST
DTSTART:20241103T090000
END:STANDARD
END:VTIMEZONE
BEGIN:VEVENT
DTSTART;TZID=America/Los_Angeles:20230315T093000
DTEND;TZID=America/Los_Angeles:20230315T103000
DTSTAMP:20260424T143814
CREATED:20230310T010907Z
LAST-MODIFIED:20230310T011153Z
UID:10000119-1678872600-1678876200@exoskeletonreport.com
SUMMARY:Webinar: Buy America for Exoskeletons by ASTM International
DESCRIPTION:ASTM International is proud to host the webinar titled Buy America: Domestic Preferences for Exoskeleton Procurements. \nThis webinar could be vital and informative for exoskeleton producers\, suppliers\, and investors if they have any aspirations to sell wearables to the US government. It is cumbersome\, but those wishing to engage in sales with US government agencies may be required to explain where their exoskeletons were made and sourced. Just like dealing with the FDA for medical exoskeletons\, it is better to know in advance what requirements may be placed on exoskeleton developers and their products. ASTM International is providing this webinar free of charge\, but registration is required. \n“During this webinar\, you’re going to be able to understand how sourcing and manufacturing components for your exoskeletons can potentially exclude you from prospective customers. As you know\, the [US] government spends a lot of money buying things and often sets numerous requirements for the things that it buys\, and that includes exo technology. They focus not only on safety and environmental sustainability but also things like ‘where did materials come from’ and ‘where were these materials transformed and manufactured into the final product?’ The ASTM International Buy America: Domestic Preferences for Exoskeleton Procurements webinar will go over these types of requirements\, how they could be applied to you in your industry\, as well as what they could mean for you as an exoskeleton developer. We hope you join the webinar.” – Nora Nimmerichter\, Technical Committee Operations Manager at ASTM International via LinkedIn. \nAbout the Presenter:\n“Paul Hurst serves as the chair of Steptoe’s Government Contracts Group. He’s ranked in Chambers USA\, and their recent client feedback said he ‘is extremely knowledgeable about all of the complex government regulations that deal with contracting and matters related to small business association contracts.’ Legal 500 US noted Paul attracts praise for his ‘deep knowledge’ and ‘keen analysis of the issues.’ He has significant experience in complex civil litigation and regularly represents government contractors in the defense\, construction\, and healthcare industry. He litigates bid protests at the General Accountability Office\, the Court of Federal Claims\, the Small Business Administration\, and state and local forums\, as well as disputes involving contracts\, fraud\, construction-related claims\, RICO\, and intellectual property pending in federal courts and state courts across the nation. Paul also has substantial experience with other government contracts-related litigation\, ADR\, and proceedings\, including claims\, internal investigations\, government audits and investigations\, reverse FOIA matters\, and civil False Claims Act and qui tam actions. He also counsels clients on matters relating to federal procurement statutes and regulations\, including compliance\, contract changes\, the False Claims Act\, the Anti-Assignment Act\, Small Business contracting\, federal procurement\, procurement integrity\, and corporate counseling for mergers and acquisitions involving government contractors. Paul previously participated in the firm’s Legal Aid Loaned Associate Program. As a loaned associate\, he gained a tremendous amount of trial experience representing indigent clients in matters pending before the Superior Court for the District of Columbia.” \nAbout Buy America:\nNot to be confused with “Buy American\,” the Buy America Act was established in 1982 mainly to regulate steel and transportation supplies. Over time\, however\, it has expanded to include some fabric materials\, and its requirements have seeped to touch wearables and exoskeleton products. For those looking to make and sell exoskeletons for US government agencies\, such as the Army\, it is vital to know in advance what expectations might be placed upon them. \nRegistration link:\nYou can register for ASTM International Buy America: Domestic Preferences for Exoskeleton Procurements Webinar here: link \nTime: Wed\, Mar 15\, 9:30 AM – 10:30 AM PDT
URL:https://exoskeletonreport.com/event/webinar-buy-america-for-exoskeletons-by-astm-international/
LOCATION:Online
CATEGORIES:Webinar
ATTACH;FMTTYPE=image/png:https://exoskeletonreport.com/wp-content/uploads/2023/03/Buy-America-Domestic-Preferences-for-Exoskeleton-Procurements.png
END:VEVENT
END:VCALENDAR