BEGIN:VCALENDAR
VERSION:2.0
PRODID:-//Exoskeleton Report - ECPv6.15.20//NONSGML v1.0//EN
CALSCALE:GREGORIAN
METHOD:PUBLISH
X-WR-CALNAME:Exoskeleton Report
X-ORIGINAL-URL:https://exoskeletonreport.com
X-WR-CALDESC:Events for Exoskeleton Report
REFRESH-INTERVAL;VALUE=DURATION:PT1H
X-Robots-Tag:noindex
X-PUBLISHED-TTL:PT1H
BEGIN:VTIMEZONE
TZID:America/Los_Angeles
BEGIN:DAYLIGHT
TZOFFSETFROM:-0800
TZOFFSETTO:-0700
TZNAME:PDT
DTSTART:20240310T100000
END:DAYLIGHT
BEGIN:STANDARD
TZOFFSETFROM:-0700
TZOFFSETTO:-0800
TZNAME:PST
DTSTART:20241103T090000
END:STANDARD
BEGIN:DAYLIGHT
TZOFFSETFROM:-0800
TZOFFSETTO:-0700
TZNAME:PDT
DTSTART:20250309T100000
END:DAYLIGHT
BEGIN:STANDARD
TZOFFSETFROM:-0700
TZOFFSETTO:-0800
TZNAME:PST
DTSTART:20251102T090000
END:STANDARD
BEGIN:DAYLIGHT
TZOFFSETFROM:-0800
TZOFFSETTO:-0700
TZNAME:PDT
DTSTART:20260308T100000
END:DAYLIGHT
BEGIN:STANDARD
TZOFFSETFROM:-0700
TZOFFSETTO:-0800
TZNAME:PST
DTSTART:20261101T090000
END:STANDARD
END:VTIMEZONE
BEGIN:VEVENT
DTSTART;VALUE=DATE:20250519
DTEND;VALUE=DATE:20250520
DTSTAMP:20260419T215712
CREATED:20250225T044917Z
LAST-MODIFIED:20250225T044917Z
UID:10000189-1747612800-1747699199@exoskeletonreport.com
SUMMARY:Workshop: State of the Art in Lower-Limb Exoskeletons
DESCRIPTION:The workshop “State of the Art in Lower-Limb Exoskeletons: Exploring Specificity vs. Generalizability Across Users and Activities” is scheduled for Monday\, May 19\, 2025\, during the IEEE International Conference on Robotics and Automation (ICRA) 2025. The conference will take place from May 19 to 23\, 2025\, at the Georgia World Congress Center in Atlanta\, Georgia\, USA. \nThis full-day workshop will feature renowned exoskeleton researchers focusing on lower-limb wearable robots. The theme of the workshop is “specificity vs generalizability” across different users and activities. The speaker list includes investigators and lab directors from all over the world: \n\nLorenzo Masia\, PhD – Technische Universität München (TUM)\, Germany\nMohamed Bouri\, PhD – École Polytechnique Fédérale de Lausanne (EPFL)\, Switzerland\nKyoungchul Kong\, PhD – Korea Advanced Institute of Science & Technology (KAIST)\, South Korea\nHe (Helen) Huang\, PhD – University of North Carolina / North Carolina State University\, USA\nRobert D. Gregg\, IV\, PhD – University of Michigan\, USA\nTommaso Lenzi\, PhD – University of Utah\, USA\nAaron Young\, PhD – Georgia Institute of Technology\, USA\nMeghan Huber\, PhD – University of Massachusetts Amherst\, USA\nMaegan Tucker\, PhD – Georgia Institute of Technology\, USA\nVictor Duenas\, PhD – Syracuse University\, USA\nRai MacLean\, PhD – University of Twente\, The Netherlands\nPatrick Slade\, PhD – Harvard University\, USA\nMax Shepherd\, PhD – Northeastern University\, USA\nGe Lv\, PhD – Clemson University\, USA\n\nYou can submit posters and demos until March 31st. For more information\, visit the Workshop’s website. \n\n\n\n\nORGANIZERS\n\n\n\n\n\n\n\n\n\nRobert Gregg\, University of Michigan\, USA\nTommaso Lenzi\, University of Utah\, USA\nAaron Young\, Georgia Institute of Technology\, USA
URL:https://exoskeletonreport.com/event/workshop-state-of-the-art-in-lower-limb-exoskeletons/
LOCATION:Georgia World Congress Center in Atlanta\, 285 Andrew Young International Blvd NW\, Atlanta\, GA\, 30313\, United States
CATEGORIES:Workshop
ATTACH;FMTTYPE=image/jpeg:https://exoskeletonreport.com/wp-content/uploads/2025/02/ICRA-2025-workshop-lower-limb-exoskeletons.jpg
END:VEVENT
END:VCALENDAR