BEGIN:VCALENDAR
VERSION:2.0
PRODID:-//Exoskeleton Report - ECPv6.15.20//NONSGML v1.0//EN
CALSCALE:GREGORIAN
METHOD:PUBLISH
X-ORIGINAL-URL:https://exoskeletonreport.com
X-WR-CALDESC:Events for Exoskeleton Report
REFRESH-INTERVAL;VALUE=DURATION:PT1H
X-Robots-Tag:noindex
X-PUBLISHED-TTL:PT1H
BEGIN:VTIMEZONE
TZID:Europe/Berlin
BEGIN:DAYLIGHT
TZOFFSETFROM:+0100
TZOFFSETTO:+0200
TZNAME:CEST
DTSTART:20240331T010000
END:DAYLIGHT
BEGIN:STANDARD
TZOFFSETFROM:+0200
TZOFFSETTO:+0100
TZNAME:CET
DTSTART:20241027T010000
END:STANDARD
BEGIN:DAYLIGHT
TZOFFSETFROM:+0100
TZOFFSETTO:+0200
TZNAME:CEST
DTSTART:20250330T010000
END:DAYLIGHT
BEGIN:STANDARD
TZOFFSETFROM:+0200
TZOFFSETTO:+0100
TZNAME:CET
DTSTART:20251026T010000
END:STANDARD
BEGIN:DAYLIGHT
TZOFFSETFROM:+0100
TZOFFSETTO:+0200
TZNAME:CEST
DTSTART:20260329T010000
END:DAYLIGHT
BEGIN:STANDARD
TZOFFSETFROM:+0200
TZOFFSETTO:+0100
TZNAME:CET
DTSTART:20261025T010000
END:STANDARD
END:VTIMEZONE
BEGIN:VTIMEZONE
TZID:America/Chicago
BEGIN:DAYLIGHT
TZOFFSETFROM:-0600
TZOFFSETTO:-0500
TZNAME:CDT
DTSTART:20240310T080000
END:DAYLIGHT
BEGIN:STANDARD
TZOFFSETFROM:-0500
TZOFFSETTO:-0600
TZNAME:CST
DTSTART:20241103T070000
END:STANDARD
BEGIN:DAYLIGHT
TZOFFSETFROM:-0600
TZOFFSETTO:-0500
TZNAME:CDT
DTSTART:20250309T080000
END:DAYLIGHT
BEGIN:STANDARD
TZOFFSETFROM:-0500
TZOFFSETTO:-0600
TZNAME:CST
DTSTART:20251102T070000
END:STANDARD
BEGIN:DAYLIGHT
TZOFFSETFROM:-0600
TZOFFSETTO:-0500
TZNAME:CDT
DTSTART:20260308T080000
END:DAYLIGHT
BEGIN:STANDARD
TZOFFSETFROM:-0500
TZOFFSETTO:-0600
TZNAME:CST
DTSTART:20261101T070000
END:STANDARD
END:VTIMEZONE
BEGIN:VEVENT
DTSTART;TZID=Europe/Berlin:20250312T093000
DTEND;TZID=Europe/Berlin:20250312T160000
DTSTAMP:20260420T181332
CREATED:20250107T202339Z
LAST-MODIFIED:20250107T202339Z
UID:10000182-1741771800-1741795200@exoskeletonreport.com
SUMMARY:Fraunhofer IPA - Exo Experience Day
DESCRIPTION:Fraunhofer IPA will host its first Exo Experience Day. This will be an in-person event for twelve specialists looking to get a crash course on occupational exoskeletons: from selecting and evaluating to implementing and future outlook. Note that the event will most likely be in German. \nCompanies and employees can be drawn towards wearable devices with the promise of combating: \n\nshortage of skilled workers\naging workforce\nin-house skill retention\nlower number of missed days\nor as a supplement to already implemented job improvements\n\n“These are just a few of the reasons why manufacturing companies often come across the term “exoskeletons” in their research. However\, the research also shows that the world of exoskeletons is extremely diverse. The systems differ\, among other things\, according to the supported body regions and whether they are active\, passive or soft. Currently\, there are already more than 100 commercial systems on the market and each has its special features. For ‘beginners\,’ however\, it is incredibly difficult to get a good overview and find out what is important for their own requirements in the company.” \n“The Exo Experience Day is therefore an offer for all companies that want to deal with the question of how exoskeletons differ\, how they work and whether exoskeletons can offer adequate support in their production. The Fraunhofer IPA is one of the world’s largest research institutes in the development and evaluation of exoskeletons. Our experts will introduce you to the functional principles of different types of exoskeletons and give you tips for the right choice as a neutral institution. Test various exoskeletons from different manufacturers in our Exoworkathlon® course (realistic application scenarios developed with industry) and get an impression of the potential and fields of application of these technologies.” \nThe event is meant for: plant managers\, occupational safety\, ergonomics experts\, innovation managers\, or those with a focused on occupational medicine. \nFor more information\, location\, price and registration\, visit the Fraunhofer IPA event webpage. \n 
URL:https://exoskeletonreport.com/event/fraunhofer-ipa-exo-experience-day/
LOCATION:Fraunhofer IPA\, Nobelstr. 12\, Stuttgart\, 70569\, Germany
CATEGORIES:Workshop
ATTACH;FMTTYPE=image/jpeg:https://exoskeletonreport.com/wp-content/uploads/2025/01/Fraunhofer-Exo-Experience-Day-Exoskeleton-Event-Calendar.jpg
END:VEVENT
BEGIN:VEVENT
DTSTART;TZID=America/Chicago:20250318T153000
DTEND;TZID=America/Chicago:20250318T163000
DTSTAMP:20260420T181332
CREATED:20250303T170648Z
LAST-MODIFIED:20250303T170648Z
UID:10000191-1742311800-1742315400@exoskeletonreport.com
SUMMARY:Exosuit Case Study Panel at ProMat
DESCRIPTION:HeroWear\, maker of the Apex and Apex 2 passive (elastic) back-assist exosuit\, is proud to present a large user-focused panel discussion at the upcoming ProMat. \nTitle: “Exosuit Case Study: Deploying exosuits to improve worker well-being and improve productivity” \nThis is an opportunity to hear directly from companies and organizations implementing occupational exoskeleton technology: \n\nAmerisure (Insurance)\nURM (Food Distribution)\nWhole Foods Market (Grocery)\nRoyal Australian Air Force (Military)\n\nIt is not often that organizations\, such as the ones listed above\, are willing to share their experience with adopting these new ergonomic solutions. This will be real-world data\, not lab studies or hypotheticals. For context\, the Royal Australian Air Force acquired more than 400 Apex suits in 2024\, and it will be fascinating to learn more about how their integration is going. Expect this session to provide valuable insights into how exosuits impact injury rates\, productivity\, and workforce well-being. \nIf you are not at ProMat or can’t attend the panel\, there is a possibility that it will be recorded and released to the public at a later time. \n 
URL:https://exoskeletonreport.com/event/exosuit-case-study-panel-at-promat/
LOCATION:McCormic Center\, Chicago\, 2301 S Martin Luther King Dr\, Chicago\, 60616\, United States
CATEGORIES:Workshop
ATTACH;FMTTYPE=image/jpeg:https://exoskeletonreport.com/wp-content/uploads/2025/03/herowear-at-promat-2025.jpg
END:VEVENT
END:VCALENDAR