BEGIN:VCALENDAR
VERSION:2.0
PRODID:-//Exoskeleton Report - ECPv6.15.20//NONSGML v1.0//EN
CALSCALE:GREGORIAN
METHOD:PUBLISH
X-ORIGINAL-URL:https://exoskeletonreport.com
X-WR-CALDESC:Events for Exoskeleton Report
REFRESH-INTERVAL;VALUE=DURATION:PT1H
X-Robots-Tag:noindex
X-PUBLISHED-TTL:PT1H
BEGIN:VTIMEZONE
TZID:America/Los_Angeles
BEGIN:DAYLIGHT
TZOFFSETFROM:-0800
TZOFFSETTO:-0700
TZNAME:PDT
DTSTART:20250309T100000
END:DAYLIGHT
BEGIN:STANDARD
TZOFFSETFROM:-0700
TZOFFSETTO:-0800
TZNAME:PST
DTSTART:20251102T090000
END:STANDARD
BEGIN:DAYLIGHT
TZOFFSETFROM:-0800
TZOFFSETTO:-0700
TZNAME:PDT
DTSTART:20260308T100000
END:DAYLIGHT
BEGIN:STANDARD
TZOFFSETFROM:-0700
TZOFFSETTO:-0800
TZNAME:PST
DTSTART:20261101T090000
END:STANDARD
BEGIN:DAYLIGHT
TZOFFSETFROM:-0800
TZOFFSETTO:-0700
TZNAME:PDT
DTSTART:20270314T100000
END:DAYLIGHT
BEGIN:STANDARD
TZOFFSETFROM:-0700
TZOFFSETTO:-0800
TZNAME:PST
DTSTART:20271107T090000
END:STANDARD
END:VTIMEZONE
BEGIN:VEVENT
DTSTART;VALUE=DATE:20260519
DTEND;VALUE=DATE:20260523
DTSTAMP:20260423T132052
CREATED:20251119T160711Z
LAST-MODIFIED:20251119T160711Z
UID:10000197-1779148800-1779494399@exoskeletonreport.com
SUMMARY:OTWorld 2026 - International Trade Show and World Congress
DESCRIPTION:OTWorld is a medical device-focused combination congress and trade fair. It brings together manufacturers\, distributors\, and service providers of modern assistive technologies with a significant human-machine interface. The last edition in 2024 has 574 exhibitors from 42 countries\, 300+ speakers at the congress\, and over 20k visitors. \nWhile this is not an exoskeleton-specific event\, there appears to be a growing representation of these devices at OTWorld; in 2024 there were: \n\n\nMarsi Bionics – showing the ATLAS 2030 pediatric gait exoskeleton for children with conditions like cerebral palsy or SMA.   \n\n\nMEBSTER – exhibiting UNILEXA 2.0\, a smart passive lower-limb exoskeleton aimed at people with spinal cord injury\, listed under product groups including “Exoskeleton.”   \n\n\nVincent Systems – with LUNAneo1\, a myoelectric upper-limb exoskeleton for stroke/plexus-injury patients\, designed to be worn under clothing.   \n\n\nAdditionally\, there were also congress sessions explicitly referencing exoskeletons (e.g.\, workshops on UNILEXA 2.0 and talks on lifting with exoskeletons). Therefore\, we can expect OTWorld 2026 to have even more rehab/medical exoskeleton content and exhibitors (plus big orthotics/prosthetics players like Ottobock\, where exoskeletons and orthoses blur together). \n 
URL:https://exoskeletonreport.com/event/otworld-2026-international-trade-show-and-world-congress/
LOCATION:Leipziger Messe\, Leipzig\, Germany\, Messe-Allee 1\, Leipzig\, Saxony (Sachsen)\, 04356\, Germany
CATEGORIES:Conference,Trade Fair
ATTACH;FMTTYPE=image/jpeg:https://exoskeletonreport.com/wp-content/uploads/2025/11/OTWORLD-2026-Exoskeleton-Report-Event-Calendar.jpg
END:VEVENT
BEGIN:VEVENT
DTSTART;VALUE=DATE:20260909
DTEND;VALUE=DATE:20260912
DTSTAMP:20260423T132052
CREATED:20260317T070058Z
LAST-MODIFIED:20260317T070058Z
UID:10000208-1788912000-1789171199@exoskeletonreport.com
SUMMARY:OS+H Asia 2026 - Singapore
DESCRIPTION:This year will be the 15th edition of The Occupational Safety + Health Exhibition for Asia\, which has been held in Singapore since its inception in 1998. A major difference for the 2026 edition will be that Dr. Urs Schneider and members of the Fraunhofer IPA team are preparing an Exo PARK event  together with AplusA Asia. \nThe exhibit takes place every other year and is expected to draw over 10k visitiros. \nEarly 2026 materials highlight exoskeletons among the featured technologies\, alongside AI-driven safety systems\, robotics\, drone inspection\, immersive VR training\, and smart PPE. \nDates: 9 – 11 September 2026. \nWebsite: Osha-Singapore.com
URL:https://exoskeletonreport.com/event/osh-asia-2026-singapore/
LOCATION:Sands Expo and Convention Center at Marina Bay Sands\, 10 Bayfront Avenue\,\, Singapore\, 018956\, Singapore
CATEGORIES:Trade Fair
ATTACH;FMTTYPE=image/jpeg:https://exoskeletonreport.com/wp-content/uploads/2026/03/osha-singapore-2026-via-main-website.jpg
END:VEVENT
BEGIN:VEVENT
DTSTART;VALUE=DATE:20260923
DTEND;VALUE=DATE:20260927
DTSTAMP:20260423T132052
CREATED:20251119T203551Z
LAST-MODIFIED:20251119T203551Z
UID:10000199-1790121600-1790467199@exoskeletonreport.com
SUMMARY:REHACARE International Trade Fair for Rehabilitation and Care
DESCRIPTION:REHACARE has an established exoskeleton product category\, and recent editions (2023–2025) have showcased multiple rehab and industrial exoskeletons (e.g.\, Lifeward/ReWalk\, Laevo\, and others). REHACARE’s official 2025/2026 media campaigns heavily feature exoskeleton content\, so the 2026 fair is very likely to include a significant exoskeleton presence. It’s almost certain that REHACARE 2026 will again have multiple rehab/medical and possibly industrial exoskeleton exhibitors and demos. \n \n\n\nREHACARE’s own official e-mag has a big feature titled “Exoskeletons at REHACARE 2025: An overview of four exciting systems”\, highlighting multiple exoskeleton products and positioning them as a key attraction of the fair. \n\n\nAnother article\, “ReWalk 7 debuts at REHACARE 2025”\, reports that Lifeward presented the CE-approved ReWalk 7 exoskeleton at REHACARE 2025. \n\n\nThe official REHACARE 2024 profile data lists “Exoskeletons” as a distinct product group with its own percentage share\, i.e.\, exoskeletons are now a stable\, named category at the fair rather than a one-off novelty. \n\n\nExternal coverage and social posts (e.g.\, CYBATHLON demos with Angel Robotics\, Laevo exoskeletons at REHACARE 2024\, etc.) repeatedly show powered and passive exoskeletons on the show floor. \n\n\nExpect REHACARE to be a hotspot for innovation\, exchange\, and participation\, a central meeting place for the international community for independent living. Exhibitors from around the world showcase the latest products\, services\, and innovations that make everyday life easier and enable participation.
URL:https://exoskeletonreport.com/event/rehacare-international-trade-fair-for-rehabilitation-and-care/
LOCATION:Messe Düsseldorf\, Stockumer Kirchstraße 61\, Düsseldorf\, Am Staad (Stockumer Höfe)\, 40474\, Germany
CATEGORIES:Trade Fair
ATTACH;FMTTYPE=image/jpeg:https://exoskeletonreport.com/wp-content/uploads/2025/11/RehaCare-2026-Exoskeleton-Report-Event-Calendar.jpg
END:VEVENT
END:VCALENDAR