BEGIN:VCALENDAR
VERSION:2.0
PRODID:-//Exoskeleton Report - ECPv6.15.20//NONSGML v1.0//EN
CALSCALE:GREGORIAN
METHOD:PUBLISH
X-WR-CALNAME:Exoskeleton Report
X-ORIGINAL-URL:https://exoskeletonreport.com
X-WR-CALDESC:Events for Exoskeleton Report
REFRESH-INTERVAL;VALUE=DURATION:PT1H
X-Robots-Tag:noindex
X-PUBLISHED-TTL:PT1H
BEGIN:VTIMEZONE
TZID:America/Los_Angeles
BEGIN:DAYLIGHT
TZOFFSETFROM:-0800
TZOFFSETTO:-0700
TZNAME:PDT
DTSTART:20200308T100000
END:DAYLIGHT
BEGIN:STANDARD
TZOFFSETFROM:-0700
TZOFFSETTO:-0800
TZNAME:PST
DTSTART:20201101T090000
END:STANDARD
BEGIN:DAYLIGHT
TZOFFSETFROM:-0800
TZOFFSETTO:-0700
TZNAME:PDT
DTSTART:20210314T100000
END:DAYLIGHT
BEGIN:STANDARD
TZOFFSETFROM:-0700
TZOFFSETTO:-0800
TZNAME:PST
DTSTART:20211107T090000
END:STANDARD
BEGIN:DAYLIGHT
TZOFFSETFROM:-0800
TZOFFSETTO:-0700
TZNAME:PDT
DTSTART:20220313T100000
END:DAYLIGHT
BEGIN:STANDARD
TZOFFSETFROM:-0700
TZOFFSETTO:-0800
TZNAME:PST
DTSTART:20221106T090000
END:STANDARD
END:VTIMEZONE
BEGIN:VEVENT
DTSTART;TZID=America/Los_Angeles:20210920T000000
DTEND;TZID=America/Los_Angeles:20210920T080000
DTSTAMP:20260424T051730
CREATED:20210908T191442Z
LAST-MODIFIED:20210908T191442Z
UID:10000098-1632096000-1632124800@exoskeletonreport.com
SUMMARY:Paexo Demo Day Berlin
DESCRIPTION:The ExR team always claims that the best way to understand an exoskeleton or an exosuit is to personally don it and try it out in a real or simulated work environment. Ottobock\, the maker of the Paexo industrial exoskeleton series plans to do just that. The company will host a Paexo Demo Day in Berlin on September 20th\, 2021 with five workstations available for 20 to 30 minutes at a time. \nWhile an in-person event during this Covid-19 crisis sounds daunting\, Ottobock is taking additional precautions for the safety of its employees and participants. The demo rooms will be ventilated and face masks are required\, in addition to extra hygiene concepts. \nTrying out a Paexo Shoulder prototype at WearRAcon 18.\nRegistration and additional information can be found on the event’s website: https://paexo.com/demo-day-berlin/ The scheduled time is September 20th\, 2021 at the Therapy Hall\, Bötzow Areal\, Prenzlauer Allee 242\, 10405 Berlin. The Paexo Demo Day will take place from 9 am to 5 pm local German time. Each tour is expected to take about 20-30 minutes\, with a new one starting every 10 minutes. The organizers ask that interested parties register in advance to reserve a time slot. \nThe Exoskeleton Report team has had the opportunity to demo one of the Paexo industrial exoskeletons\, the Paexo Shoulder\, not once but twice. Having the opportunity to physically don a wearable provides a better picture of what the exoskeleton industry is all about than any amount of writing can. It truly can be an “Aha! Eureka!” moment. \nIf additional resources were available\, there are people and organizations that would already like to see a mobile exhibit of exoskeleton technology travel around the U.S. and the E.U. For now\, however\, the Ottobock Demo Day Berlin is the closest event to that vision of the future.
URL:https://exoskeletonreport.com/event/paexo-demo-day-berlin/
LOCATION:Therapy Hall\, Bötzow Areal\, Prenzlauer Allee 242\, 10405 Berlin\, Therapy Hall\, Bötzow Areal\, Prenzlauer Allee 242\, Berlin\, 10405\, Germany
CATEGORIES:Meeting
ATTACH;FMTTYPE=image/jpeg:https://exoskeletonreport.com/wp-content/uploads/2021/09/Ottobock-Paexo-Demo-Day-Berlin-Sept-2021.jpg
END:VEVENT
END:VCALENDAR