BEGIN:VCALENDAR
VERSION:2.0
PRODID:-//Exoskeleton Report - ECPv6.15.20//NONSGML v1.0//EN
CALSCALE:GREGORIAN
METHOD:PUBLISH
X-ORIGINAL-URL:https://exoskeletonreport.com
X-WR-CALDESC:Events for Exoskeleton Report
REFRESH-INTERVAL;VALUE=DURATION:PT1H
X-Robots-Tag:noindex
X-PUBLISHED-TTL:PT1H
BEGIN:VTIMEZONE
TZID:America/Los_Angeles
BEGIN:DAYLIGHT
TZOFFSETFROM:-0800
TZOFFSETTO:-0700
TZNAME:PDT
DTSTART:20240310T100000
END:DAYLIGHT
BEGIN:STANDARD
TZOFFSETFROM:-0700
TZOFFSETTO:-0800
TZNAME:PST
DTSTART:20241103T090000
END:STANDARD
BEGIN:DAYLIGHT
TZOFFSETFROM:-0800
TZOFFSETTO:-0700
TZNAME:PDT
DTSTART:20250309T100000
END:DAYLIGHT
BEGIN:STANDARD
TZOFFSETFROM:-0700
TZOFFSETTO:-0800
TZNAME:PST
DTSTART:20251102T090000
END:STANDARD
BEGIN:DAYLIGHT
TZOFFSETFROM:-0800
TZOFFSETTO:-0700
TZNAME:PDT
DTSTART:20260308T100000
END:DAYLIGHT
BEGIN:STANDARD
TZOFFSETFROM:-0700
TZOFFSETTO:-0800
TZNAME:PST
DTSTART:20261101T090000
END:STANDARD
END:VTIMEZONE
BEGIN:VEVENT
DTSTART;VALUE=DATE:20250912
DTEND;VALUE=DATE:20250919
DTSTAMP:20260420T044407
CREATED:20241101T045400Z
LAST-MODIFIED:20241112T212545Z
UID:10000176-1757635200-1758239999@exoskeletonreport.com
SUMMARY:2025 NSC Safety Congress & Expo
DESCRIPTION:The 2025 NSC Safety Congress & Expo will be held Sept. 12-18 in Denver. Stay up to date at congress.nsc.org. Event details and registration will be available in the coming months. \nThe National Congress Annual Congress and Exposition is held every September or October. It is one of many hosted by the National Safety Council each year. This will not be a dedicated event to occupational exoskeletons and wearable robotics\, however\, recently the National Safety Council has began featuring exo-technology for workers. The 2023 edition included multiple sessions on exos during the congress portion\, specifically in their Innovation Pavilion\, and several exo vendors were also present at the expo. \nAs a reminder\, HeroWear and ErgoSanté were both finalists at the 2024 NSC Innovation Challenge: HeroWear and its Exoskeleton Suit Wins the National Safety Council’s Third Annual Safety Innovation Challenge. \nThe NSC Safety Congress & Expo is one of the leading safety events\, with over a century of history providing professionals with cutting-edge technology\, valuable education\, and networking opportunities. Attendees can participate in over 150 educational sessions ranging from introductory to advanced levels\, earning continuing education credits through Professional Development Seminars\, Keynotes\, and Learning Labs. The event also offers excellent networking opportunities to connect with industry leaders and explore potential collaborations. \nThe expo floor is expected to feature over 1\,000 exhibiting companies and is a hub for discovering the latest safety solutions\, products\, and services to help professionals stay competitive.
URL:https://exoskeletonreport.com/event/2025-nsc-safety-congress-expo/
LOCATION:Colorado Convention Center in Denver\, Colorado\, 700 14th Street\, Denver\, 80202\, United States
CATEGORIES:Conference
ATTACH;FMTTYPE=image/jpeg:https://exoskeletonreport.com/wp-content/uploads/2024/10/2025-NSC-Safety-Congress-Expo-Exoskeleton-Report-Calendar.jpg
END:VEVENT
END:VCALENDAR