BEGIN:VCALENDAR
VERSION:2.0
PRODID:-//Exoskeleton Report - ECPv6.15.20//NONSGML v1.0//EN
CALSCALE:GREGORIAN
METHOD:PUBLISH
X-ORIGINAL-URL:https://exoskeletonreport.com
X-WR-CALDESC:Events for Exoskeleton Report
REFRESH-INTERVAL;VALUE=DURATION:PT1H
X-Robots-Tag:noindex
X-PUBLISHED-TTL:PT1H
BEGIN:VTIMEZONE
TZID:America/Los_Angeles
BEGIN:DAYLIGHT
TZOFFSETFROM:-0800
TZOFFSETTO:-0700
TZNAME:PDT
DTSTART:20230312T100000
END:DAYLIGHT
BEGIN:STANDARD
TZOFFSETFROM:-0700
TZOFFSETTO:-0800
TZNAME:PST
DTSTART:20231105T090000
END:STANDARD
BEGIN:DAYLIGHT
TZOFFSETFROM:-0800
TZOFFSETTO:-0700
TZNAME:PDT
DTSTART:20240310T100000
END:DAYLIGHT
BEGIN:STANDARD
TZOFFSETFROM:-0700
TZOFFSETTO:-0800
TZNAME:PST
DTSTART:20241103T090000
END:STANDARD
BEGIN:DAYLIGHT
TZOFFSETFROM:-0800
TZOFFSETTO:-0700
TZNAME:PDT
DTSTART:20250309T100000
END:DAYLIGHT
BEGIN:STANDARD
TZOFFSETFROM:-0700
TZOFFSETTO:-0800
TZNAME:PST
DTSTART:20251102T090000
END:STANDARD
END:VTIMEZONE
BEGIN:VEVENT
DTSTART;VALUE=DATE:20241031
DTEND;VALUE=DATE:20241104
DTSTAMP:20260423T132252
CREATED:20240308T072511Z
LAST-MODIFIED:20240925T204859Z
UID:10000147-1730332800-1730678399@exoskeletonreport.com
SUMMARY:ACRM 2024\, Dallas
DESCRIPTION:The American Conference of Rehabilitation Medicine\, ACRM 101st Annual Conference\, Progress in Rehabilitation Research\, Translation to Clinical Practice is scheduled for this October-Novermber in Dallas Texas. ACRM is not a dedicated conference for medical exoskeletons\, exosuits and wearable robotics\, but it has historically attracted a significant number of them. The 2023 edition of the conference\, for example\, had more than seven outfits with strong ties to medical exos supporting the event. \nEkso Bionics will be presenting a Workshop: Overground Robotic Exoskeletons for Spinal Cord Injury. “a unique workshop on the future of exoskeleton technology in spinal cord injury care! This workshop will bring together clinicians\, scientists\, and industry leaders to discuss the evolution of exoskeleton use in rehab and as a personal assistive device.” Registration: link \nFor more information\, visit: https://acrm.org
URL:https://exoskeletonreport.com/event/acrm-2024-chicago/
LOCATION:Hilton Anatole\, 2201 N Stemmons Freeway\, Dallas\, CA\, 75207\, United States
CATEGORIES:Conference
ATTACH;FMTTYPE=image/jpeg:https://exoskeletonreport.com/wp-content/uploads/2024/03/ACRM-2024-featured-image-exoskeleton-reprot-event-calendar.jpg
END:VEVENT
BEGIN:VEVENT
DTSTART;VALUE=DATE:20241105
DTEND;VALUE=DATE:20241109
DTSTAMP:20260423T132252
CREATED:20240311T195649Z
LAST-MODIFIED:20240311T195649Z
UID:10000154-1730764800-1731110399@exoskeletonreport.com
SUMMARY:6th International Conference on NeuroRehabilitation (ICNR2024)
DESCRIPTION:The 6th International Conference on NeuroRehablitation\, ICNR 2024 is scheduled for November 5-8\, 2024 in “La Granja de San Ildefonso” in La Granja\, Spain. The conference is scheduled to have a significant number of exoskeleton and wearable related topics. The event is targeted towards clinical rehabilitation professionals\, applied neurophysiology experts\, and biomedical engineers. The primary goal of the conference is to discuss novel approaches\, challenges and solutions for wearable robotics\, specifically in a clinical setting. \nThe main organizers behind the event are the Shirley Ryan AbilityLab\, Northwestern University\, Hospital Los Madraños\, and the Center for Clinical Neuroscience HLM. General sponsors of ICNR include Fourier Intelligence\, Hospital Los Madraños\,  kūrage\, Technaid\, and ICORR. \nThe online registration deadline is October 11\, 2024. For more information and to sign up\, visit: https://2024.icneurorehab.org \nICNR 2024 Tracks include wearable robotics\, clinical motor control\, rehabilitation robotics\, AI and Computational Methods in Rehabilitation and Neural Interfaces and Stimulation. All tracks are potentially relevant to exoskeleton technology. Additional\, expect discussions and presentations on topics like: \n\nWearable Rehabilitation Robotics\nSoft Exosuits for rehabilitation and assistance\nBiomechanics and movement analysis\nObjective and clinical motor outcomes and assessment\nClinical needs and future prospects
URL:https://exoskeletonreport.com/event/6th-international-conference-on-neurorehabilitation-icnr2024/
LOCATION:La Granja de San Ildefonso in La Granja\, Spain\, Real Sitio de San Ildefonso 40100\, Segovia\, United States
CATEGORIES:Conference
ATTACH;FMTTYPE=image/jpeg:https://exoskeletonreport.com/wp-content/uploads/2024/03/International-Conference-on-NeuroRehabilitation-ICNR2024-Exoskeleton-Event-Calendar.jpg
END:VEVENT
END:VCALENDAR